BEGIN:VCALENDAR
VERSION:2.0
PRODID:-//Laxgaltsap - ECPv6.15.20//NONSGML v1.0//EN
CALSCALE:GREGORIAN
METHOD:PUBLISH
X-ORIGINAL-URL:https://laxgaltsap.ca
X-WR-CALDESC:Events for Laxgaltsap
REFRESH-INTERVAL;VALUE=DURATION:PT1H
X-Robots-Tag:noindex
X-PUBLISHED-TTL:PT1H
BEGIN:VTIMEZONE
TZID:UTC
BEGIN:STANDARD
TZOFFSETFROM:+0000
TZOFFSETTO:+0000
TZNAME:UTC
DTSTART:20250101T000000
END:STANDARD
END:VTIMEZONE
BEGIN:VEVENT
DTSTART;VALUE=DATE:20260424
DTEND;VALUE=DATE:20260426
DTSTAMP:20260420T130102
CREATED:20260310T055459Z
LAST-MODIFIED:20260310T055459Z
UID:10000364-1776988800-1777161599@laxgaltsap.ca
SUMMARY:Ja’ii Jamboree Cultural Celebration
DESCRIPTION:Ja’ii Jamboree – Laxgaltsap
URL:https://laxgaltsap.ca/event/jaii-jamboree-cultural-celebration-2/
LOCATION:Lax̱galts’ap Community Centre\, Lax̱g̱alts’ap\, British Columbia\, V0J 1X0\, Canada
CATEGORIES:Community Event
ATTACH;FMTTYPE=image/jpeg:https://laxgaltsap.ca/wp-content/uploads/2026/03/Web-version-scaled.jpg
END:VEVENT
END:VCALENDAR